BEGIN:VCALENDAR
VERSION:2.0
PRODID:-//Jesus Gemeinde Fürth - ECPv6.15.20//NONSGML v1.0//EN
CALSCALE:GREGORIAN
METHOD:PUBLISH
X-ORIGINAL-URL:https://www.kirche-fuerth.de
X-WR-CALDESC:Veranstaltungen für Jesus Gemeinde Fürth
REFRESH-INTERVAL;VALUE=DURATION:PT1H
X-Robots-Tag:noindex
X-PUBLISHED-TTL:PT1H
BEGIN:VTIMEZONE
TZID:Europe/Berlin
BEGIN:DAYLIGHT
TZOFFSETFROM:+0100
TZOFFSETTO:+0200
TZNAME:CEST
DTSTART:20290325T010000
END:DAYLIGHT
BEGIN:STANDARD
TZOFFSETFROM:+0200
TZOFFSETTO:+0100
TZNAME:CET
DTSTART:20291028T010000
END:STANDARD
BEGIN:DAYLIGHT
TZOFFSETFROM:+0100
TZOFFSETTO:+0200
TZNAME:CEST
DTSTART:20300331T010000
END:DAYLIGHT
BEGIN:STANDARD
TZOFFSETFROM:+0200
TZOFFSETTO:+0100
TZNAME:CET
DTSTART:20301027T010000
END:STANDARD
BEGIN:DAYLIGHT
TZOFFSETFROM:+0100
TZOFFSETTO:+0200
TZNAME:CEST
DTSTART:20310330T010000
END:DAYLIGHT
BEGIN:STANDARD
TZOFFSETFROM:+0200
TZOFFSETTO:+0100
TZNAME:CET
DTSTART:20311026T010000
END:STANDARD
END:VTIMEZONE
BEGIN:VEVENT
DTSTART;TZID=Europe/Berlin:20300703T183000
DTEND;TZID=Europe/Berlin:20300703T193000
DTSTAMP:20260423T214006
CREATED:20260320T003605Z
LAST-MODIFIED:20260322T000535Z
UID:10002511-1909333800-1909337400@www.kirche-fuerth.de
SUMMARY:Gebetsstunde
DESCRIPTION:Das Gebet ist eine großartige Möglichkeit\, vor Gott zu treten\, denn Gott sagt in der Bibel: \n„Und ihr werdet mich anrufen und hingehen und mich bitten\, und ich will euch erhören.“\nJeremia 29\,12 \nSo beten wir für unsere Mitmenschen\, Stadt\, Land und die Welt. \nKomme auch du gerne zur Gebetsstunde.
URL:https://www.kirche-fuerth.de/treffen/gebetsstunde-2/2030-07-03/
LOCATION:Jesus Gemeinde Fürth\, Fronmüllerstraße 71\, Fürth\, 90763\, Deutschland
ATTACH;FMTTYPE=image/jpeg:https://www.kirche-fuerth.de/wp-content/uploads/gebetsstunde.jpg
ORGANIZER;CN="Jesus Gemeinde F%C3%BCrth":MAILTO:info@kirche-fuerth.de
END:VEVENT
BEGIN:VEVENT
DTSTART;TZID=Europe/Berlin:20300707T101500
DTEND;TZID=Europe/Berlin:20300707T120000
DTSTAMP:20260423T214006
CREATED:20260322T001515Z
LAST-MODIFIED:20260322T001743Z
UID:10002131-1909649700-1909656000@www.kirche-fuerth.de
SUMMARY:Gottesdienst
DESCRIPTION:Im Gottesdienst feiern wir gemeinsam Jesus und erleben auferbauende Predigten. Außerhalb der Ferien genießen die Kleinen einen eigenen Kindergottesdienst. \nHier findest du weitere Informationen zum Gottesdienst.
URL:https://www.kirche-fuerth.de/treffen/gottesdienst-6-2/2030-07-07/
LOCATION:Jesus Gemeinde Fürth\, Fronmüllerstraße 71\, Fürth\, 90763\, Deutschland
CATEGORIES:Gottesdienste
ATTACH;FMTTYPE=image/jpeg:https://www.kirche-fuerth.de/wp-content/uploads/gottesdienst.jpg
ORGANIZER;CN="Jesus Gemeinde F%C3%BCrth":MAILTO:info@kirche-fuerth.de
END:VEVENT
BEGIN:VEVENT
DTSTART;TZID=Europe/Berlin:20300710T183000
DTEND;TZID=Europe/Berlin:20300710T193000
DTSTAMP:20260423T214006
CREATED:20260320T003605Z
LAST-MODIFIED:20260322T000535Z
UID:10002512-1909938600-1909942200@www.kirche-fuerth.de
SUMMARY:Gebetsstunde
DESCRIPTION:Das Gebet ist eine großartige Möglichkeit\, vor Gott zu treten\, denn Gott sagt in der Bibel: \n„Und ihr werdet mich anrufen und hingehen und mich bitten\, und ich will euch erhören.“\nJeremia 29\,12 \nSo beten wir für unsere Mitmenschen\, Stadt\, Land und die Welt. \nKomme auch du gerne zur Gebetsstunde.
URL:https://www.kirche-fuerth.de/treffen/gebetsstunde-2/2030-07-10/
LOCATION:Jesus Gemeinde Fürth\, Fronmüllerstraße 71\, Fürth\, 90763\, Deutschland
ATTACH;FMTTYPE=image/jpeg:https://www.kirche-fuerth.de/wp-content/uploads/gebetsstunde.jpg
ORGANIZER;CN="Jesus Gemeinde F%C3%BCrth":MAILTO:info@kirche-fuerth.de
END:VEVENT
BEGIN:VEVENT
DTSTART;TZID=Europe/Berlin:20300714T101500
DTEND;TZID=Europe/Berlin:20300714T120000
DTSTAMP:20260423T214006
CREATED:20260322T001515Z
LAST-MODIFIED:20260322T001743Z
UID:10002132-1910254500-1910260800@www.kirche-fuerth.de
SUMMARY:Gottesdienst
DESCRIPTION:Im Gottesdienst feiern wir gemeinsam Jesus und erleben auferbauende Predigten. Außerhalb der Ferien genießen die Kleinen einen eigenen Kindergottesdienst. \nHier findest du weitere Informationen zum Gottesdienst.
URL:https://www.kirche-fuerth.de/treffen/gottesdienst-6-2/2030-07-14/
LOCATION:Jesus Gemeinde Fürth\, Fronmüllerstraße 71\, Fürth\, 90763\, Deutschland
CATEGORIES:Gottesdienste
ATTACH;FMTTYPE=image/jpeg:https://www.kirche-fuerth.de/wp-content/uploads/gottesdienst.jpg
ORGANIZER;CN="Jesus Gemeinde F%C3%BCrth":MAILTO:info@kirche-fuerth.de
END:VEVENT
BEGIN:VEVENT
DTSTART;TZID=Europe/Berlin:20300717T183000
DTEND;TZID=Europe/Berlin:20300717T193000
DTSTAMP:20260423T214006
CREATED:20260320T003605Z
LAST-MODIFIED:20260322T000535Z
UID:10002513-1910543400-1910547000@www.kirche-fuerth.de
SUMMARY:Gebetsstunde
DESCRIPTION:Das Gebet ist eine großartige Möglichkeit\, vor Gott zu treten\, denn Gott sagt in der Bibel: \n„Und ihr werdet mich anrufen und hingehen und mich bitten\, und ich will euch erhören.“\nJeremia 29\,12 \nSo beten wir für unsere Mitmenschen\, Stadt\, Land und die Welt. \nKomme auch du gerne zur Gebetsstunde.
URL:https://www.kirche-fuerth.de/treffen/gebetsstunde-2/2030-07-17/
LOCATION:Jesus Gemeinde Fürth\, Fronmüllerstraße 71\, Fürth\, 90763\, Deutschland
ATTACH;FMTTYPE=image/jpeg:https://www.kirche-fuerth.de/wp-content/uploads/gebetsstunde.jpg
ORGANIZER;CN="Jesus Gemeinde F%C3%BCrth":MAILTO:info@kirche-fuerth.de
END:VEVENT
BEGIN:VEVENT
DTSTART;TZID=Europe/Berlin:20300721T101500
DTEND;TZID=Europe/Berlin:20300721T120000
DTSTAMP:20260423T214006
CREATED:20260322T001515Z
LAST-MODIFIED:20260322T001743Z
UID:10002150-1910859300-1910865600@www.kirche-fuerth.de
SUMMARY:Gottesdienst
DESCRIPTION:Im Gottesdienst feiern wir gemeinsam Jesus und erleben auferbauende Predigten. Außerhalb der Ferien genießen die Kleinen einen eigenen Kindergottesdienst. \nHier findest du weitere Informationen zum Gottesdienst.
URL:https://www.kirche-fuerth.de/treffen/gottesdienst-6-2/2030-07-21/
LOCATION:Jesus Gemeinde Fürth\, Fronmüllerstraße 71\, Fürth\, 90763\, Deutschland
CATEGORIES:Gottesdienste
ATTACH;FMTTYPE=image/jpeg:https://www.kirche-fuerth.de/wp-content/uploads/gottesdienst.jpg
ORGANIZER;CN="Jesus Gemeinde F%C3%BCrth":MAILTO:info@kirche-fuerth.de
END:VEVENT
BEGIN:VEVENT
DTSTART;TZID=Europe/Berlin:20300724T183000
DTEND;TZID=Europe/Berlin:20300724T193000
DTSTAMP:20260423T214006
CREATED:20260320T003605Z
LAST-MODIFIED:20260322T000535Z
UID:10002514-1911148200-1911151800@www.kirche-fuerth.de
SUMMARY:Gebetsstunde
DESCRIPTION:Das Gebet ist eine großartige Möglichkeit\, vor Gott zu treten\, denn Gott sagt in der Bibel: \n„Und ihr werdet mich anrufen und hingehen und mich bitten\, und ich will euch erhören.“\nJeremia 29\,12 \nSo beten wir für unsere Mitmenschen\, Stadt\, Land und die Welt. \nKomme auch du gerne zur Gebetsstunde.
URL:https://www.kirche-fuerth.de/treffen/gebetsstunde-2/2030-07-24/
LOCATION:Jesus Gemeinde Fürth\, Fronmüllerstraße 71\, Fürth\, 90763\, Deutschland
ATTACH;FMTTYPE=image/jpeg:https://www.kirche-fuerth.de/wp-content/uploads/gebetsstunde.jpg
ORGANIZER;CN="Jesus Gemeinde F%C3%BCrth":MAILTO:info@kirche-fuerth.de
END:VEVENT
BEGIN:VEVENT
DTSTART;TZID=Europe/Berlin:20300728T101500
DTEND;TZID=Europe/Berlin:20300728T120000
DTSTAMP:20260423T214006
CREATED:20260322T001515Z
LAST-MODIFIED:20260322T001743Z
UID:10002151-1911464100-1911470400@www.kirche-fuerth.de
SUMMARY:Gottesdienst
DESCRIPTION:Im Gottesdienst feiern wir gemeinsam Jesus und erleben auferbauende Predigten. Außerhalb der Ferien genießen die Kleinen einen eigenen Kindergottesdienst. \nHier findest du weitere Informationen zum Gottesdienst.
URL:https://www.kirche-fuerth.de/treffen/gottesdienst-6-2/2030-07-28/
LOCATION:Jesus Gemeinde Fürth\, Fronmüllerstraße 71\, Fürth\, 90763\, Deutschland
CATEGORIES:Gottesdienste
ATTACH;FMTTYPE=image/jpeg:https://www.kirche-fuerth.de/wp-content/uploads/gottesdienst.jpg
ORGANIZER;CN="Jesus Gemeinde F%C3%BCrth":MAILTO:info@kirche-fuerth.de
END:VEVENT
BEGIN:VEVENT
DTSTART;TZID=Europe/Berlin:20300731T183000
DTEND;TZID=Europe/Berlin:20300731T193000
DTSTAMP:20260423T214006
CREATED:20260320T003605Z
LAST-MODIFIED:20260322T000535Z
UID:10002515-1911753000-1911756600@www.kirche-fuerth.de
SUMMARY:Gebetsstunde
DESCRIPTION:Das Gebet ist eine großartige Möglichkeit\, vor Gott zu treten\, denn Gott sagt in der Bibel: \n„Und ihr werdet mich anrufen und hingehen und mich bitten\, und ich will euch erhören.“\nJeremia 29\,12 \nSo beten wir für unsere Mitmenschen\, Stadt\, Land und die Welt. \nKomme auch du gerne zur Gebetsstunde.
URL:https://www.kirche-fuerth.de/treffen/gebetsstunde-2/2030-07-31/
LOCATION:Jesus Gemeinde Fürth\, Fronmüllerstraße 71\, Fürth\, 90763\, Deutschland
ATTACH;FMTTYPE=image/jpeg:https://www.kirche-fuerth.de/wp-content/uploads/gebetsstunde.jpg
ORGANIZER;CN="Jesus Gemeinde F%C3%BCrth":MAILTO:info@kirche-fuerth.de
END:VEVENT
END:VCALENDAR